Workbook

Sheet ELENCO ISCRITTI
A1: N. | B1: COGNOME | C1: NOME | D1: SESSO | E1: PROVENIENZA | F1: DATA DI NASCITA | G1: CITTA' | H1: INDIRIZZO | I1: TEL | J1: IN ITALIA DA | K1: LIVELLO SCOLARIZZAZIONE | L1: DATA ISCRIZIONE
A2: 1 | I2: 389/8866402 | J2: 1 ANNO
A3: 2 | I3: 320/7686104 | J3: 1 AANO | K3: LAUREATA (IN COMMERCIO)
A4: 3 | I4: 338/3737026 | J4: 5 ANNI | K4: LAUREATA
A5: 4 | I5: 349/4611562 | J5: 3 ANNI | K5: 3^ MEDIA
A6: 5 | I6: 328/0509735 | J6: 4 ANNI | K6: LAUREATA (IN FARMACIA)
A7: 6 | I7: 393/4692495 | J7: 6 MESI | K7: DIPLOMA DI MAESTRA
A8: 7 | I8: 333/9868459 | J8: 1 ANNO | K8: 3 ANNI DI SCUOLA
A9: 8 | I9: 329/4315338 | J9: 1 ANNO
A10: 9 | I10: 389/9589702 | J10: 1 ANNO
A11: 10 | I11: 320/0861470
A12: 11 | I12: 389/8346793 333/1327571 | J12: 13 ANNI | K12: NON HA FREQUENTATO SCUOLE
A13: 12 | I13: 320/0426634
A14: 13 | I14: 327/5313134 | J14: 7 ANNI
A15: 14 | I15: 380/7811717
A16: 15 | I16: 320/2526320 | J16: 9 ANNI
A17: 16 | I17: 389/4249347 346/5754398(marito) | J17: 5 MESI | K17: MEDIA
A18: 17 | I18: 389/5174676 | K18: SCUOLA MEDIA
A19: 18 | I19: 331/7738053 | J19: 8 ANNI | K19: SCUOLA SUPERIORE
A20: 19 | I20: 338/8387414 | J20: 4 ANNI | K20: TERZA MEDIA
A21: 20 | I21: 035/892127 | J21: 1 MESE
A22: 21 | I22: 340/3158445 | J22: 1 ANNO | K22: UNIVERSITA'
A23: 22 | I23: 339/6356508 | J23: 12 ANNI | K23: NON HA FREQUENTATO SCUOLE
A24: 23 | I24: 327/3515880 | J24: 10 ANNI | K24: UNIVERSITA'
A25: 24 | I25: 320/0949937 | J25: DA 1 ANNO E MEZZO | K25: MEDIA
A26: 25 | I26: 327/3515880 | J26: 1 ANNO | K26: NON HA FREQUENTATO SCUOLE
A27: 26 | I27: 388/9727565

Sheet INFO ISCRITTI
A1: CORSO DI ITALIANO -
B3: DATI ANAGRAFICI | G3: LAVORO | I3: ISTRUZIONE E COMPTENZA LINGUISTICA IN ENTRATA | N3: PARTECIPAZIONE | P3: LIVELLO IN USCITA | R3: NOTE
A4: N. | B4: COGNOME | C4: NOME | D4: NAZIONALITÁ | E4: ETÁ | F4: IN ITALIA DA | G4: ATTUALE OCCUPAZIONE | H4: OCCUPAZIONE PAESE D'ORIGINE | I4: STUDI NEL PAESE D'ORIGINE | J4: PRECEDENTE FREQUENZA CORSI ITA | K4: MADRELINGUA | L4: ALTRE LINGUE CONOSCIUTE | M4: GRUPPO | N4: TOT PRESENZE | O4: MOTIVI EVENTUALE ABBANDONO | P4: ORALE | Q4: SCRITTO
A5: 1 | B5: ='ELENCO ISCRITTI'!B2 -> 0 | C5: ='ELENCO ISCRITTI'!C2 -> 0 | D5: ='ELENCO ISCRITTI'!E2 -> 0 | E5: =2010-YEAR('ELENCO ISCRITTI'!F2) -> 110 | F5: ='ELENCO ISCRITTI'!J2 -> 1 ANNO | M5: A1 | N5: ='REGISTRO PRESENZE'!AE3 -> 0
A6: =A5+1 -> 2 | B6: ='ELENCO ISCRITTI'!B3 -> 0 | C6: ='ELENCO ISCRITTI'!C3 -> 0 | D6: ='ELENCO ISCRITTI'!E3 -> 0 | E6: =2010-YEAR('ELENCO ISCRITTI'!F3) -> 110 | F6: ='ELENCO ISCRITTI'!J3 -> 1 AANO | M6: A1 | N6: ='REGISTRO PRESENZE'!AE4 -> 0 | O6: BAMBINI + incinta e non sta bene | R6: a turno con i bambini con Seham
A7: =A6+1 -> 3 | B7: ='ELENCO ISCRITTI'!B4 -> 0 | C7: ='ELENCO ISCRITTI'!C4 -> 0 | D7: ='ELENCO ISCRITTI'!E4 -> 0 | E7: =2010-YEAR('ELENCO ISCRITTI'!F4) -> 110 | F7: ='ELENCO ISCRITTI'!J4 -> 5 ANNI | M7: A2 | N7: ='REGISTRO PRESENZE'!AE5 -> 0 | O7: partorito
A8: =A7+1 -> 4 | B8: ='ELENCO ISCRITTI'!B5 -> 0 | C8: ='ELENCO ISCRITTI'!C5 -> 0 | D8: ='ELENCO ISCRITTI'!E5 -> 0 | E8: =2010-YEAR('ELENCO ISCRITTI'!F5) -> 110 | F8: ='ELENCO ISCRITTI'!J5 -> 3 ANNI | M8: A1 | N8: ='REGISTRO PRESENZE'!AE6 -> 0 | R8: problemi con marito
A9: =A8+1 -> 5 | B9: ='ELENCO ISCRITTI'!B6 -> 0 | C9: ='ELENCO ISCRITTI'!C6 -> 0 | D9: ='ELENCO ISCRITTI'!E6 -> 0 | E9: =2010-YEAR('ELENCO ISCRITTI'!F6) -> 110 | F9: ='ELENCO ISCRITTI'!J6 -> 4 ANNI | M9: A1 | N9: ='REGISTRO PRESENZE'!AE7 -> 0 | R9: problemi con bambino
A10: =A9+1 -> 6 | B10: ='ELENCO ISCRITTI'!B7 -> 0 | C10: ='ELENCO ISCRITTI'!C7 -> 0 | D10: ='ELENCO ISCRITTI'!E7 -> 0 | E10: =2010-YEAR('ELENCO ISCRITTI'!F7) -> 110 | F10: ='ELENCO ISCRITTI'!J7 -> 6 MESI | M10: A0 | N10: ='REGISTRO PRESENZE'!AE8 -> 0
A11: =A10+1 -> 7 | B11: ='ELENCO ISCRITTI'!B8 -> 0 | C11: ='ELENCO ISCRITTI'!C8 -> 0 | D11: ='ELENCO ISCRITTI'!E8 -> 0 | E11: =2010-YEAR('ELENCO ISCRITTI'!F8) -> 110 | F11: ='ELENCO ISCRITTI'!J8 -> 1 ANNO | M11: A0 | N11: ='REGISTRO PRESENZE'!AE9 -> 0
A12: =A11+1 -> 8 | B12: ='ELENCO ISCRITTI'!B9 -> 0 | C12: ='ELENCO ISCRITTI'!C9 -> 0 | D12: ='ELENCO ISCRITTI'!E9 -> 0 | E12: =2010-YEAR('ELENCO ISCRITTI'!F9) -> 110 | F12: ='ELENCO ISCRITTI'!J9 -> 1 ANNO | M12: AN | N12: ='REGISTRO PRESENZE'!AE10 -> 0
A13: =A12+1 -> 9 | B13: ='ELENCO ISCRITTI'!B10 -> 0 | C13: ='ELENCO ISCRITTI'!C10 -> 0 | D13: ='ELENCO ISCRITTI'!E10 -> 0 | E13: =2010-YEAR('ELENCO ISCRITTI'!F10) -> 110 | F13: ='ELENCO ISCRITTI'!J10 -> 1 ANNO | N13: ='REGISTRO PRESENZE'!AE11 -> 0 | O13: pagamento
A14: =A13+1 -> 10 | B14: ='ELENCO ISCRITTI'!B11 -> 0 | C14: ='ELENCO ISCRITTI'!C11 -> 0 | D14: ='ELENCO ISCRITTI'!E11 -> 0 | E14: =2010-YEAR('ELENCO ISCRITTI'!F11) -> 110 | F14: ='ELENCO ISCRITTI'!J11 -> 0 | M14: A0 | N14: ='REGISTRO PRESENZE'!AE12 -> 0
A15: =A14+1 -> 11 | B15: ='ELENCO ISCRITTI'!B12 -> 0 | C15: ='ELENCO ISCRITTI'!C12 -> 0 | D15: ='ELENCO ISCRITTI'!E12 -> 0 | E15: =2010-YEAR('ELENCO ISCRITTI'!F12) -> 110 | F15: ='ELENCO ISCRITTI'!J12 -> 13 ANNI | M15: AN | N15: ='REGISTRO PRESENZE'!AE13 -> 0
A16: =A15+1 -> 12 | B16: ='ELENCO ISCRITTI'!B13 -> 0 | C16: ='ELENCO ISCRITTI'!C13 -> 0 | D16: ='ELENCO ISCRITTI'!E13 -> 0 | E16: =2010-YEAR('ELENCO ISCRITTI'!F13) -> 110 | F16: ='ELENCO ISCRITTI'!J13 -> 0 | M16: A1 | N16: ='REGISTRO PRESENZE'!AE14 -> 0
A17: =A16+1 -> 13 | B17: ='ELENCO ISCRITTI'!B14 -> 0 | C17: ='ELENCO ISCRITTI'!C14 -> 0 | D17: ='ELENCO ISCRITTI'!E14 -> 0 | E17: =2010-YEAR('ELENCO ISCRITTI'!F14) -> 110 | F17: ='ELENCO ISCRITTI'!J14 -> 7 ANNI | M17: AN | N17: ='REGISTRO PRESENZE'!AE15 -> 0
A18: =A17+1 -> 14 | B18: ='ELENCO ISCRITTI'!B15 -> 0 | C18: ='ELENCO ISCRITTI'!C15 -> 0 | D18: ='ELENCO ISCRITTI'!E15 -> 0
A19: =A18+1 -> 15 | B19: ='ELENCO ISCRITTI'!B16 -> 0 | C19: ='ELENCO ISCRITTI'!C16 -> 0 | D19: ='ELENCO ISCRITTI'!E16 -> 0
A20: =A19+1 -> 16 | B20: ='ELENCO ISCRITTI'!B17 -> 0 | C20: ='ELENCO ISCRITTI'!C17 -> 0 | D20: ='ELENCO ISCRITTI'!E17 -> 0
A21: =A20+1 -> 17 | B21: ='ELENCO ISCRITTI'!B18 -> 0 | C21: ='ELENCO ISCRITTI'!C18 -> 0 | D21: ='ELENCO ISCRITTI'!E18 -> 0
A22: =A21+1 -> 18 | B22: ='ELENCO ISCRITTI'!B19 -> 0 | C22: ='ELENCO ISCRITTI'!C19 -> 0 | D22: ='ELENCO ISCRITTI'!E19 -> 0
A23: =A22+1 -> 19 | B23: ='ELENCO ISCRITTI'!B20 -> 0 | C23: ='ELENCO ISCRITTI'!C20 -> 0 | D23: ='ELENCO ISCRITTI'!E20 -> 0 | O23: ?
A24: =A23+1 -> 20 | B24: ='ELENCO ISCRITTI'!B21 -> 0 | C24: ='ELENCO ISCRITTI'!C21 -> 0 | D24: ='ELENCO ISCRITTI'!E21 -> 0
A25: =A24+1 -> 21 | B25: ='ELENCO ISCRITTI'!B22 -> 0 | C25: ='ELENCO ISCRITTI'!C22 -> 0 | D25: ='ELENCO ISCRITTI'!E22 -> 0
A26: =A25+1 -> 22 | B26: ='ELENCO ISCRITTI'!B23 -> 0 | C26: ='ELENCO ISCRITTI'!C23 -> 0 | D26: ='ELENCO ISCRITTI'!E23 -> 0 | O26: ?
A27: =A26+1 -> 23 | B27: ='ELENCO ISCRITTI'!B24 -> 0 | C27: ='ELENCO ISCRITTI'!C24 -> 0 | D27: ='ELENCO ISCRITTI'!E24 -> 0
A28: =A27+1 -> 24 | B28: ='ELENCO ISCRITTI'!B25 -> 0 | C28: ='ELENCO ISCRITTI'!C25 -> 0 | D28: ='ELENCO ISCRITTI'!E25 -> 0
A29: =A28+1 -> 25 | B29: ='ELENCO ISCRITTI'!B26 -> 0 | C29: ='ELENCO ISCRITTI'!C26 -> 0 | D29: ='ELENCO ISCRITTI'!E26 -> 0
A30: =A29+1 -> 26 | B30: ='ELENCO ISCRITTI'!B27 -> 0 | C30: ='ELENCO ISCRITTI'!C27 -> 0 | D30: ='ELENCO ISCRITTI'!E27 -> 0

Sheet REGISTRO PRESENZE
F1: DATE | AE1: TOT PRESENZE
A2: N. | B2: COGNOME | C2: NOME | D2: NAZIONALITÁ | E2: GRUPPO
A3: 1 | B3: ='ELENCO ISCRITTI'!B2 -> 0 | C3: ='ELENCO ISCRITTI'!C2 -> 0 | D3: ='ELENCO ISCRITTI'!E2 -> 0 | AE3: =COUNTIF(F3:AD3,"X") -> 0
A4: =A3+1 -> 2 | B4: ='ELENCO ISCRITTI'!B3 -> 0 | C4: ='ELENCO ISCRITTI'!C3 -> 0 | D4: ='ELENCO ISCRITTI'!E3 -> 0 | AE4: =COUNTIF(F4:AD4,"X") -> 0
A5: =A4+1 -> 3 | B5: ='ELENCO ISCRITTI'!B4 -> 0 | C5: ='ELENCO ISCRITTI'!C4 -> 0 | D5: ='ELENCO ISCRITTI'!E4 -> 0 | AE5: =COUNTIF(F5:AD5,"X") -> 0
A6: =A5+1 -> 4 | B6: ='ELENCO ISCRITTI'!B5 -> 0 | C6: ='ELENCO ISCRITTI'!C5 -> 0 | D6: ='ELENCO ISCRITTI'!E5 -> 0 | AE6: =COUNTIF(F6:AD6,"X") -> 0
A7: =A6+1 -> 5 | B7: ='ELENCO ISCRITTI'!B6 -> 0 | C7: ='ELENCO ISCRITTI'!C6 -> 0 | D7: ='ELENCO ISCRITTI'!E6 -> 0 | AE7: =COUNTIF(F7:AD7,"X") -> 0
A8: =A7+1 -> 6 | B8: ='ELENCO ISCRITTI'!B7 -> 0 | C8: ='ELENCO ISCRITTI'!C7 -> 0 | D8: ='ELENCO ISCRITTI'!E7 -> 0 | AE8: =COUNTIF(F8:AD8,"X") -> 0
A9: =A8+1 -> 7 | B9: ='ELENCO ISCRITTI'!B8 -> 0 | C9: ='ELENCO ISCRITTI'!C8 -> 0 | D9: ='ELENCO ISCRITTI'!E8 -> 0 | AE9: =COUNTIF(F9:AD9,"X") -> 0
A10: =A9+1 -> 8 | B10: ='ELENCO ISCRITTI'!B9 -> 0 | C10: ='ELENCO ISCRITTI'!C9 -> 0 | D10: ='ELENCO ISCRITTI'!E9 -> 0 | AE10: =COUNTIF(F10:AD10,"X") -> 0
A11: =A10+1 -> 9 | B11: ='ELENCO ISCRITTI'!B10 -> 0 | C11: ='ELENCO ISCRITTI'!C10 -> 0 | D11: ='ELENCO ISCRITTI'!E10 -> 0 | AE11: =COUNTIF(F11:AD11,"X") -> 0
A12: =A11+1 -> 10 | B12: ='ELENCO ISCRITTI'!B11 -> 0 | C12: ='ELENCO ISCRITTI'!C11 -> 0 | D12: ='ELENCO ISCRITTI'!E11 -> 0 | AE12: =COUNTIF(F12:AD12,"X") -> 0
A13: =A12+1 -> 11 | B13: ='ELENCO ISCRITTI'!B12 -> 0 | C13: ='ELENCO ISCRITTI'!C12 -> 0 | AE13: =COUNTIF(F13:AD13,"X") -> 0
A14: =A13+1 -> 12 | B14: ='ELENCO ISCRITTI'!B13 -> 0 | C14: ='ELENCO ISCRITTI'!C13 -> 0 | D14: ='ELENCO ISCRITTI'!E13 -> 0 | AE14: =COUNTIF(F14:AD14,"X") -> 0
A15: =A14+1 -> 13 | B15: ='ELENCO ISCRITTI'!B14 -> 0 | C15: ='ELENCO ISCRITTI'!C14 -> 0 | D15: ='ELENCO ISCRITTI'!E14 -> 0 | AE15: =COUNTIF(F15:AD15,"X") -> 0
A16: =A15+1 -> 14 | B16: ='ELENCO ISCRITTI'!B15 -> 0 | C16: ='ELENCO ISCRITTI'!C15 -> 0 | D16: ='ELENCO ISCRITTI'!E15 -> 0 | AE16: =COUNTIF(F16:AD16,"X") -> 0
A17: =A16+1 -> 15 | B17: ='ELENCO ISCRITTI'!B16 -> 0 | C17: ='ELENCO ISCRITTI'!C16 -> 0 | D17: ='ELENCO ISCRITTI'!E16 -> 0 | AE17: =COUNTIF(F17:AD17,"X") -> 0
A18: =A17+1 -> 16 | B18: ='ELENCO ISCRITTI'!B17 -> 0 | C18: ='ELENCO ISCRITTI'!C17 -> 0 | D18: ='ELENCO ISCRITTI'!E17 -> 0 | AE18: =COUNTIF(F18:AD18,"X") -> 0
A19: =A18+1 -> 17 | B19: ='ELENCO ISCRITTI'!B18 -> 0 | C19: ='ELENCO ISCRITTI'!C18 -> 0 | AE19: =COUNTIF(F19:AD19,"X") -> 0
A20: =A19+1 -> 18 | B20: ='ELENCO ISCRITTI'!B19 -> 0 | C20: ='ELENCO ISCRITTI'!C19 -> 0 | D20: ='ELENCO ISCRITTI'!E19 -> 0 | AE20: =COUNTIF(F20:AD20,"X") -> 0
A21: =A20+1 -> 19 | B21: ='ELENCO ISCRITTI'!B20 -> 0 | C21: ='ELENCO ISCRITTI'!C20 -> 0 | D21: ='ELENCO ISCRITTI'!E20 -> 0 | AE21: =COUNTIF(F21:AD21,"X") -> 0
A22: =A21+1 -> 20 | B22: ='ELENCO ISCRITTI'!B21 -> 0 | C22: ='ELENCO ISCRITTI'!C21 -> 0 | D22: ='ELENCO ISCRITTI'!E21 -> 0 | AE22: =COUNTIF(F22:AD22,"X") -> 0
A23: =A22+1 -> 21 | B23: ='ELENCO ISCRITTI'!B22 -> 0 | C23: ='ELENCO ISCRITTI'!C22 -> 0 | D23: ='ELENCO ISCRITTI'!E22 -> 0 | AE23: =COUNTIF(F23:AD23,"X") -> 0
A24: =A23+1 -> 22 | B24: ='ELENCO ISCRITTI'!B23 -> 0 | C24: ='ELENCO ISCRITTI'!C23 -> 0 | D24: ='ELENCO ISCRITTI'!E23 -> 0 | AE24: =COUNTIF(F24:AD24,"X") -> 0
A25: =A24+1 -> 23 | B25: ='ELENCO ISCRITTI'!B24 -> 0 | C25: ='ELENCO ISCRITTI'!C24 -> 0 | D25: ='ELENCO ISCRITTI'!E24 -> 0 | AE25: =COUNTIF(F25:AD25,"X") -> 0
A26: =A25+1 -> 24 | B26: ='ELENCO ISCRITTI'!B25 -> 0 | C26: ='ELENCO ISCRITTI'!C25 -> 0 | D26: ='ELENCO ISCRITTI'!E25 -> 0 | AE26: =COUNTIF(F26:AD26,"X") -> 0
A27: =A26+1 -> 25 | B27: ='ELENCO ISCRITTI'!B26 -> 0 | C27: ='ELENCO ISCRITTI'!C26 -> 0 | D27: ='ELENCO ISCRITTI'!E26 -> 0 | AE27: =COUNTIF(F27:AD27,"X") -> 0
A28: =A27+1 -> 26 | B28: ='ELENCO ISCRITTI'!B27 -> 0 | C28: ='ELENCO ISCRITTI'!C27 -> 0 | D28: ='ELENCO ISCRITTI'!E27 -> 0 | AE28: =COUNTIF(F28:AD28,"X") -> 0
A29: TOTALE PER GIORNATA | F29: =COUNTIF(F3:F28,"X") -> 0 | G29: =COUNTIF(G3:G28,"X") -> 0 | H29: =COUNTIF(H3:H28,"X") -> 0 | I29: =COUNTIF(I3:I28,"X") -> 0 | J29: =COUNTIF(J3:J28,"X") -> 0 | K29: =COUNTIF(K3:K28,"X") -> 0 | L29: =COUNTIF(L3:L28,"X") -> 0 | M29: =COUNTIF(M3:M28,"X") -> 0 | ... AD29: =COUNTIF(AD3:AD28,"X") -> 0
A32: TOTALE INCONTRI:
